BEGIN:VCALENDAR
VERSION:2.0
PRODID:-//Covenant Park Church - ECPv6.15.20//NONSGML v1.0//EN
CALSCALE:GREGORIAN
METHOD:PUBLISH
X-WR-CALNAME:Covenant Park Church
X-ORIGINAL-URL:https://covenantparkchurch.org
X-WR-CALDESC:Events for Covenant Park Church
REFRESH-INTERVAL;VALUE=DURATION:PT1H
X-Robots-Tag:noindex
X-PUBLISHED-TTL:PT1H
BEGIN:VTIMEZONE
TZID:America/New_York
BEGIN:DAYLIGHT
TZOFFSETFROM:-0500
TZOFFSETTO:-0400
TZNAME:EDT
DTSTART:20220313T070000
END:DAYLIGHT
BEGIN:STANDARD
TZOFFSETFROM:-0400
TZOFFSETTO:-0500
TZNAME:EST
DTSTART:20221106T060000
END:STANDARD
BEGIN:DAYLIGHT
TZOFFSETFROM:-0500
TZOFFSETTO:-0400
TZNAME:EDT
DTSTART:20230312T070000
END:DAYLIGHT
BEGIN:STANDARD
TZOFFSETFROM:-0400
TZOFFSETTO:-0500
TZNAME:EST
DTSTART:20231105T060000
END:STANDARD
BEGIN:DAYLIGHT
TZOFFSETFROM:-0500
TZOFFSETTO:-0400
TZNAME:EDT
DTSTART:20240310T070000
END:DAYLIGHT
BEGIN:STANDARD
TZOFFSETFROM:-0400
TZOFFSETTO:-0500
TZNAME:EST
DTSTART:20241103T060000
END:STANDARD
END:VTIMEZONE
BEGIN:VEVENT
DTSTART;TZID=America/New_York:20230825T180000
DTEND;TZID=America/New_York:20230826T120000
DTSTAMP:20260419T095255
CREATED:20230628T183143Z
LAST-MODIFIED:20230628T183959Z
UID:10002135-1692986400-1693051200@covenantparkchurch.org
SUMMARY:THRIVE: Marriage Conference
DESCRIPTION:Is your marriage thriving? Kids\, work\, conflict\, in-laws\, sports\, and even newly empty nesting can all strain a marriage. Before you know it\, young love turns into just surviving. Healthy marriages don’t just happen. Healthy marriages require work. \nThe Thrive: Marriage Conference is an opportunity to work on your marriage. Invest in your marriage so it will thrive. Whether you are newly married or just celebrated your 50th anniversary\, every couple can benefit from this time of learning and reflection to see their marriage thrive the way God intended. \nJoin us August 25-26\, Friday evening (6-9) through Saturday morning (8-12)\, as Jimmy and Kristin Scroggins teach us how to foster a thriving marriage. The cost of the conference is $75 and includes meals and resources.  Childcare options will be available\, but there will be limited spaces\, more information is forthcoming.  Registration is required for the conference.  To learn more or to register click the registration button below. \nThis event is proudly offered through the partnership of five Madison churches: Centennial Baptist Church\, Fusion Church of Madison\, Covenant Park Madison\, Madison Baptist Church\, and Redeemer Church of Madison. \nRegister Now
URL:https://covenantparkchurch.org/event/thrive-marriage-conference/
LOCATION:The Hall on Foster\, 434 South Main Street\, Madison\, GA\, 30650\, United States
CATEGORIES:All Church,Front Page
ATTACH;FMTTYPE=image/png:https://covenantparkchurch.org/wp-content/uploads/Thrive-website-header.png
GEO:33.5915676;-83.4709818
X-APPLE-STRUCTURED-LOCATION;VALUE=URI;X-ADDRESS=The Hall on Foster 434 South Main Street Madison GA 30650 United States;X-APPLE-RADIUS=500;X-TITLE=434 South Main Street:geo:-83.4709818,33.5915676
END:VEVENT
END:VCALENDAR