BEGIN:VCALENDAR
VERSION:2.0
PRODID:-//Covenant Park Church - ECPv6.15.20//NONSGML v1.0//EN
CALSCALE:GREGORIAN
METHOD:PUBLISH
X-ORIGINAL-URL:https://covenantparkchurch.org
X-WR-CALDESC:Events for Covenant Park Church
REFRESH-INTERVAL;VALUE=DURATION:PT1H
X-Robots-Tag:noindex
X-PUBLISHED-TTL:PT1H
BEGIN:VTIMEZONE
TZID:America/New_York
BEGIN:DAYLIGHT
TZOFFSETFROM:-0500
TZOFFSETTO:-0400
TZNAME:EDT
DTSTART:20240310T070000
END:DAYLIGHT
BEGIN:STANDARD
TZOFFSETFROM:-0400
TZOFFSETTO:-0500
TZNAME:EST
DTSTART:20241103T060000
END:STANDARD
BEGIN:DAYLIGHT
TZOFFSETFROM:-0500
TZOFFSETTO:-0400
TZNAME:EDT
DTSTART:20250309T070000
END:DAYLIGHT
BEGIN:STANDARD
TZOFFSETFROM:-0400
TZOFFSETTO:-0500
TZNAME:EST
DTSTART:20251102T060000
END:STANDARD
BEGIN:DAYLIGHT
TZOFFSETFROM:-0500
TZOFFSETTO:-0400
TZNAME:EDT
DTSTART:20260308T070000
END:DAYLIGHT
BEGIN:STANDARD
TZOFFSETFROM:-0400
TZOFFSETTO:-0500
TZNAME:EST
DTSTART:20261101T060000
END:STANDARD
END:VTIMEZONE
BEGIN:VEVENT
DTSTART;TZID=America/New_York:20250727T190000
DTEND;TZID=America/New_York:20250727T200000
DTSTAMP:20260420T025538
CREATED:20250722T181335Z
LAST-MODIFIED:20250722T181336Z
UID:10008112-1753642800-1753646400@covenantparkchurch.org
SUMMARY:Community Prayer Walk for Morgan County Schools
DESCRIPTION:Get ready to join hearts and hands as we come together for a special community-led Prayer Walk for Morgan County Schools! We believe in the power of prayer\, and what better way to show our support for our amazing students\, teachers\, and staff than by walking and praying over their schools? This powerful evening will kick off on July 27 at 7:00PM\, starting at the elementary school. We’ll then walk by each of our schools\, lifting them up in prayer.\n\n\n\nThis is a fantastic opportunity for all of us to unite in faith and show our kids and educators how much we care. We’ll be walking together\, covering each school in prayer\, believing for blessings and guidance over the upcoming school year. Everyone is welcome\, so invite your friends\, family\, and neighbors to be a part of this meaningful event! Let’s rally together and make a difference through prayer!
URL:https://covenantparkchurch.org/event/community-prayer-walk-for-morgan-county-schools/
LOCATION:Morgan County Elementary School\, 1640 Old Buckhead Rd\, Madison\, GA\, 30650\, United States
CATEGORIES:All Church,Front Page
ATTACH;FMTTYPE=image/png:https://covenantparkchurch.org/wp-content/uploads/Prayer-Walk-1.png
GEO:33.5951945;-83.4463159
X-APPLE-STRUCTURED-LOCATION;VALUE=URI;X-ADDRESS=Morgan County Elementary School 1640 Old Buckhead Rd Madison GA 30650 United States;X-APPLE-RADIUS=500;X-TITLE=1640 Old Buckhead Rd:geo:-83.4463159,33.5951945
END:VEVENT
END:VCALENDAR