BEGIN:VCALENDAR
VERSION:2.0
PRODID:-//Covenant Park Church - ECPv6.15.20//NONSGML v1.0//EN
CALSCALE:GREGORIAN
METHOD:PUBLISH
X-WR-CALNAME:Covenant Park Church
X-ORIGINAL-URL:https://covenantparkchurch.org
X-WR-CALDESC:Events for Covenant Park Church
REFRESH-INTERVAL;VALUE=DURATION:PT1H
X-Robots-Tag:noindex
X-PUBLISHED-TTL:PT1H
BEGIN:VTIMEZONE
TZID:America/New_York
BEGIN:DAYLIGHT
TZOFFSETFROM:-0500
TZOFFSETTO:-0400
TZNAME:EDT
DTSTART:20240310T070000
END:DAYLIGHT
BEGIN:STANDARD
TZOFFSETFROM:-0400
TZOFFSETTO:-0500
TZNAME:EST
DTSTART:20241103T060000
END:STANDARD
BEGIN:DAYLIGHT
TZOFFSETFROM:-0500
TZOFFSETTO:-0400
TZNAME:EDT
DTSTART:20250309T070000
END:DAYLIGHT
BEGIN:STANDARD
TZOFFSETFROM:-0400
TZOFFSETTO:-0500
TZNAME:EST
DTSTART:20251102T060000
END:STANDARD
BEGIN:DAYLIGHT
TZOFFSETFROM:-0500
TZOFFSETTO:-0400
TZNAME:EDT
DTSTART:20260308T070000
END:DAYLIGHT
BEGIN:STANDARD
TZOFFSETFROM:-0400
TZOFFSETTO:-0500
TZNAME:EST
DTSTART:20261101T060000
END:STANDARD
END:VTIMEZONE
BEGIN:VEVENT
DTSTART;TZID=America/New_York:20251221T090000
DTEND;TZID=America/New_York:20251221T120000
DTSTAMP:20260419T175501
CREATED:20251104T184836Z
LAST-MODIFIED:20251104T193300Z
UID:10008587-1766307600-1766318400@covenantparkchurch.org
SUMMARY:Covenant Park Kids Christmas Performance
DESCRIPTION:Covenant Park Kids Christmas Performance\nIt’s the most wonderful time of the year\, and we can’t wait to celebrate the birth of Jesus with our annual Kids Christmas Performance! This year\, our kids (from 3-year-olds through 5th grade) will be presenting “Uncertain Poor Shepherds.” \nThis special musical takes a look at that famous night in Bethlehem from the shepherds’ point of view. Can you imagine what they were feeling? From seeing bright lights in the sky to hearing the angels sing\, our kids will tell the story of Jesus’ birth in a fun and worshipful way! \n\nParent & Rehearsal Information\nGetting ready for the big day takes practice! All children (3yo–5th grade) are invited to perform. Please sign up by the deadline so we can get everyone ready! \n🗓️ Sign-up Deadline: November 16 (Required) \n🎭 Performance Day: Sunday\, December 21 \n⏰ Performance Times: 9:00 AM & 11:00 AM Services \n3 & 4-Year-Olds\n\nRegular Practice: Sunday mornings during their regular class time leading up to the performance.\nAdditional Practice: Saturday\, December 20th at 9:00 AM in the Sanctuary.\n\nK–5th Grade Students\n\nRegular Practice: Sunday mornings during Treehouse.\nMandatory Practices (Sanctuary):\n\nWednesday\, December 10 – 6:00 PM–7:30 PM\nWednesday\, December 17 – 6:00 PM–7:30 PM\nSaturday\, December 20 – 10:00 AM–12:00 PM Please note: This is the final Dress Rehearsal!\n\n\n\nSpeaking Parts (1st–5th Grade)\n\nSpeaking parts are optional! If your 1st–5th grader is interested\, please indicate that when you register.\nSpeaking Practice: During the 9:00 AM service hour each Sunday leading up to the performance.\nRequirement: Students with speaking parts must attend the 9:00 AM service hour for practice AND all three mandatory practices (Dec 10\, 17\, & 20\n\n\nPerformance Day Details (All Performers)\n\nAll participating students will perform during both the 9:00 AM and 11:00 AM services on Sunday\, December 21st.\nOnce the 11:00 AM performance is complete\, parents may check their child out from their class.\n\nAny questions? Please contact our Christmas Performance Coordinator\, Saralyn Fulcher\, at saralynstewart@gmail.com. \nSIGN UP HERE
URL:https://covenantparkchurch.org/event/covenant-park-kids-christmas-performance/
LOCATION:Covenant Park Church\, 1111 Mary Magnan Blvd\, Madison\, GA\, 30650\, United States
CATEGORIES:Children,Front Page
ATTACH;FMTTYPE=image/png:https://covenantparkchurch.org/wp-content/uploads/Kids-Christmas-Performance-2025-Website-Thumbnail.png
ORGANIZER;CN="Saralyn Fulcher":MAILTO:saralynstewart@gmail.com
GEO:33.564322465858;-83.469787356103
X-APPLE-STRUCTURED-LOCATION;VALUE=URI;X-ADDRESS=Covenant Park Church 1111 Mary Magnan Blvd Madison GA 30650 United States;X-APPLE-RADIUS=500;X-TITLE=1111 Mary Magnan Blvd:geo:-83.469787356103,33.564322465858
END:VEVENT
END:VCALENDAR