BEGIN:VCALENDAR
VERSION:2.0
PRODID:-//Covenant Park Church - ECPv6.15.20//NONSGML v1.0//EN
CALSCALE:GREGORIAN
METHOD:PUBLISH
X-WR-CALNAME:Covenant Park Church
X-ORIGINAL-URL:https://covenantparkchurch.org
X-WR-CALDESC:Events for Covenant Park Church
REFRESH-INTERVAL;VALUE=DURATION:PT1H
X-Robots-Tag:noindex
X-PUBLISHED-TTL:PT1H
BEGIN:VTIMEZONE
TZID:America/New_York
BEGIN:DAYLIGHT
TZOFFSETFROM:-0500
TZOFFSETTO:-0400
TZNAME:EDT
DTSTART:20230312T070000
END:DAYLIGHT
BEGIN:STANDARD
TZOFFSETFROM:-0400
TZOFFSETTO:-0500
TZNAME:EST
DTSTART:20231105T060000
END:STANDARD
BEGIN:DAYLIGHT
TZOFFSETFROM:-0500
TZOFFSETTO:-0400
TZNAME:EDT
DTSTART:20240310T070000
END:DAYLIGHT
BEGIN:STANDARD
TZOFFSETFROM:-0400
TZOFFSETTO:-0500
TZNAME:EST
DTSTART:20241103T060000
END:STANDARD
BEGIN:DAYLIGHT
TZOFFSETFROM:-0500
TZOFFSETTO:-0400
TZNAME:EDT
DTSTART:20250309T070000
END:DAYLIGHT
BEGIN:STANDARD
TZOFFSETFROM:-0400
TZOFFSETTO:-0500
TZNAME:EST
DTSTART:20251102T060000
END:STANDARD
END:VTIMEZONE
BEGIN:VEVENT
DTSTART;TZID=America/New_York:20241203T180000
DTEND;TZID=America/New_York:20241203T193000
DTSTAMP:20260420T101945
CREATED:20241127T194516Z
LAST-MODIFIED:20260115T173425Z
UID:10005777-1733248800-1733254200@covenantparkchurch.org
SUMMARY:Celebrate Recovery
DESCRIPTION:Find Hope and Healing at Celebrate Recovery\nWhat is Celebrate Recovery?\nCelebrate Recovery is a Christ-centered\, twelve-step program that offers hope and healing to people struggling with hurts\, habits\, and hang-ups. Whether you’re dealing with addiction\, codependency\, relationship issues\, or any other life challenge\, Celebrate Recovery provides a safe and supportive environment where you can find freedom from your past. Through sharing your experiences\, receiving encouragement\, and applying biblical principles\, you can learn to overcome your struggles and live a life of victory. \nHow does Celebrate Recovery Work?\nCelebrate Recovery is based on the Eight Principles of the Beatitudes\, which provide a framework for understanding and addressing our struggles. Through weekly meetings\, we share our experiences\, strengths\, and hopes with others who are also on the journey of recovery. We also learn about God’s love and grace\, and how to apply His principles to our lives. \nA typical meeting looks like this: \n\nDoors will open at 5:30 each Tuesday with refreshments served in the lobby\nThe CR meeting will start promptly at 6:00\n\nThe first 30 minutes will include worship and a lesson or testimony\nSmall groups will meet immediately afterwards\n\n\n\nHow to Get Involved:\n\nAttend a Meeting: Our meetings are open to anyone\, regardless of their background or the nature of their struggles. We believe that everyone deserves a chance to experience the freedom and healing that God offers.\n\nContact Us: If you have any questions or need more information\, please contact the Karen Young at celebraterecovery@covenantparkchurch.org or 706-438-1288.\n\n\nFollow the Covenant Park Celebrate Recovery Facebook page for the latest updates\, announcements\, and encouragement.\n\nCelebrate Recovery is a life-changing program that can help you find hope\, healing\, and a new way of living. We invite you to join us on this journey of recovery and discover the freedom that comes from following Christ. Are you ready to take the next step? \nI’m ReadyFAQ:\n\nIs there a cost for the program? Do I have to purchase any books/materials?\n\nThere is no cost to attend and while not required\, resources are available to purchase at the meeting.\n\n\n\n\nIs there a minimum age requirement?\n\nCurrently\, we are only offering an adult class for ages 18 and over.\n\n\n\n\nHow long does a meeting last?\n\n1.5 hours\n\n\n\n\nIs childcare provided?\n\nYes\, we will have basic\, drop-in care.\n\n\n\n\nHow long does the program take?\n\nThe program is never ending\, each calendar year we will cover 26 lessons.\n\n\n\n\nWhat if I’m not ready to share my story?\n\nThat’s perfectly fine! You are not required to share anything you are uncomfortable with during the meeting or small group time. You are required to protect every attendee and their information by never sharing who\, what\, or anything else about the meeting.\n\n\n\n\nAre the meetings confidential/anonymous?\n\nYes\, this is a protected environment.\n\n\n\n\nCan I smoke?\n\nThere will be a designated smoking area outside\, away from the building.\n\n\n\n\nDo I have to be a Christian to attend?\n\nNo\, but I’ll bet you will be before you leave.\n\n\n\n\nAre firearms permitted?\n\nFirearms are not permitted inside the building except for those individuals that have been assigned to protect the service by CR leaders.\n\n\n\n\nWhat if shows up? Are there any security measures in place?\n\nIt is the number one priority of the entire CR Staff to protect our meeting environment and all those attending.
URL:https://covenantparkchurch.org/event/celebrate-recovery-3/
LOCATION:Covenant Park Church\, 1111 Mary Magnan Blvd\, Madison\, GA\, 30650\, United States
CATEGORIES:Men,Women
ATTACH;FMTTYPE=image/png:https://covenantparkchurch.org/wp-content/uploads/Celebrate-Recovery-1920-X1080-px-1.png
ORGANIZER;CN="Karen Young":MAILTO:celebraterecovery@covenantparkchurch.org
GEO:33.564322465858;-83.469787356103
X-APPLE-STRUCTURED-LOCATION;VALUE=URI;X-ADDRESS=Covenant Park Church 1111 Mary Magnan Blvd Madison GA 30650 United States;X-APPLE-RADIUS=500;X-TITLE=1111 Mary Magnan Blvd:geo:-83.469787356103,33.564322465858
END:VEVENT
BEGIN:VEVENT
DTSTART;TZID=America/New_York:20241126T180000
DTEND;TZID=America/New_York:20241126T190000
DTSTAMP:20260420T101945
CREATED:20240930T123127Z
LAST-MODIFIED:20250917T155615Z
UID:10005776-1732644000-1732647600@covenantparkchurch.org
SUMMARY:Celebrate Recovery
DESCRIPTION:Find Hope and Healing at Celebrate Recovery\nWhat is Celebrate Recovery?\nCelebrate Recovery is a Christ-centered\, twelve-step program that offers hope and healing to people struggling with hurts\, habits\, and hang-ups. Whether you’re dealing with addiction\, codependency\, relationship issues\, or any other life challenge\, Celebrate Recovery provides a safe and supportive environment where you can find freedom from your past. Through sharing your experiences\, receiving encouragement\, and applying biblical principles\, you can learn to overcome your struggles and live a life of victory. \nHow does Celebrate Recovery Work?\nCelebrate Recovery is based on the Eight Principles of the Beatitudes\, which provide a framework for understanding and addressing our struggles. Through weekly meetings\, we share our experiences\, strengths\, and hopes with others who are also on the journey of recovery. We also learn about God’s love and grace\, and how to apply His principles to our lives. \nA typical meeting looks like this: \n\nDoors will open at 5:30 each Tuesday with snacks and refreshments served in the lobby\nThe CR meeting will start promptly at 6:00\n\nThe first 30 minutes will include worship and a lesson or testimony\nSmall groups will meet immediately afterwards\n\n\n\nHow to Get Involved:\n\nAttend a Meeting: Our meetings are open to anyone\, regardless of their background or the nature of their struggles. We believe that everyone deserves a chance to experience the freedom and healing that God offers.\nContact Us: If you have any questions or need more information\, please contact Karen Young at celebraterecovery@covenantparkchurch.org or 706-438-1288.\nFollow the Covenant Park Celebrate Recovery Facebook page for the latest updates\, announcements\, and encouragement.\n\nCelebrate Recovery is a life-changing program that can help you find hope\, healing\, and a new way of living. We invite you to join us on this journey of recovery and discover the freedom that comes from following Christ. Are you ready to take the next step? \nI’m ReadyFAQ:\n\nIs there a cost for the program? Do I have to purchase any books/materials?\n\nThere is no cost to attend and while not required\, resources are available to purchase at the meeting.\n\n\n\n\nIs there a minimum age requirement?\n\nCurrently\, we are only offering an adult class for ages 18 and over.\n\n\n\n\nHow long does a meeting last?\n\n1 hour\n\n\n\n\nIs childcare provided?\n\nYes\, we will have basic\, drop-in care.\n\n\n\n\nHow long does the program take?\n\nThe program is never ending\, each calendar year we will cover 26 lessons.\n\n\n\n\nWhat if I’m not ready to share my story?\n\nThat’s perfectly fine! You are not required to share anything you are uncomfortable with during the meeting or small group time. You are required to protect every attendee and their information by never sharing who\, what\, or anything else about the meeting.\n\n\n\n\nAre the meetings confidential/anonymous?\n\nYes\, this is a protected environment.\n\n\n\n\nCan I smoke?\n\nThere will be a designated smoking area outside\, away from the building.\n\n\n\n\nCan I watch online?\n\nNot currently\, but we do hope to offer that in the near future.\n\n\n\n\nDo I have to be a Christian to attend?\n\nNo\, but I’ll bet you will be before you leave.\n\n\n\n\nAre firearms permitted?\n\nFirearms are not permitted inside the building except for those individuals that have been assigned to protect the service by CR leaders.\n\n\n\n\nWhat if <unwanted person from my past> shows up? Are there any security measures in place?\n\nIt is the number one priority of the entire CR Staff to protect our meeting environment and all those attending.
URL:https://covenantparkchurch.org/event/celebrate-recovery/2024-11-26/
LOCATION:Covenant Park Church\, 1111 Mary Magnan Blvd\, Madison\, GA\, 30650\, United States
CATEGORIES:Men,Women
ATTACH;FMTTYPE=image/png:https://covenantparkchurch.org/wp-content/uploads/Celebrate-Recovery-1920-X1080-px-1.png
ORGANIZER;CN="Karen Young":MAILTO:celebraterecovery@covenantparkchurch.org
GEO:33.564322465858;-83.469787356103
X-APPLE-STRUCTURED-LOCATION;VALUE=URI;X-ADDRESS=Covenant Park Church 1111 Mary Magnan Blvd Madison GA 30650 United States;X-APPLE-RADIUS=500;X-TITLE=1111 Mary Magnan Blvd:geo:-83.469787356103,33.564322465858
END:VEVENT
BEGIN:VEVENT
DTSTART;TZID=America/New_York:20241119T180000
DTEND;TZID=America/New_York:20241119T190000
DTSTAMP:20260420T101945
CREATED:20240930T123127Z
LAST-MODIFIED:20250917T155615Z
UID:10005775-1732039200-1732042800@covenantparkchurch.org
SUMMARY:Celebrate Recovery
DESCRIPTION:Find Hope and Healing at Celebrate Recovery\nWhat is Celebrate Recovery?\nCelebrate Recovery is a Christ-centered\, twelve-step program that offers hope and healing to people struggling with hurts\, habits\, and hang-ups. Whether you’re dealing with addiction\, codependency\, relationship issues\, or any other life challenge\, Celebrate Recovery provides a safe and supportive environment where you can find freedom from your past. Through sharing your experiences\, receiving encouragement\, and applying biblical principles\, you can learn to overcome your struggles and live a life of victory. \nHow does Celebrate Recovery Work?\nCelebrate Recovery is based on the Eight Principles of the Beatitudes\, which provide a framework for understanding and addressing our struggles. Through weekly meetings\, we share our experiences\, strengths\, and hopes with others who are also on the journey of recovery. We also learn about God’s love and grace\, and how to apply His principles to our lives. \nA typical meeting looks like this: \n\nDoors will open at 5:30 each Tuesday with snacks and refreshments served in the lobby\nThe CR meeting will start promptly at 6:00\n\nThe first 30 minutes will include worship and a lesson or testimony\nSmall groups will meet immediately afterwards\n\n\n\nHow to Get Involved:\n\nAttend a Meeting: Our meetings are open to anyone\, regardless of their background or the nature of their struggles. We believe that everyone deserves a chance to experience the freedom and healing that God offers.\nContact Us: If you have any questions or need more information\, please contact Karen Young at celebraterecovery@covenantparkchurch.org or 706-438-1288.\nFollow the Covenant Park Celebrate Recovery Facebook page for the latest updates\, announcements\, and encouragement.\n\nCelebrate Recovery is a life-changing program that can help you find hope\, healing\, and a new way of living. We invite you to join us on this journey of recovery and discover the freedom that comes from following Christ. Are you ready to take the next step? \nI’m ReadyFAQ:\n\nIs there a cost for the program? Do I have to purchase any books/materials?\n\nThere is no cost to attend and while not required\, resources are available to purchase at the meeting.\n\n\n\n\nIs there a minimum age requirement?\n\nCurrently\, we are only offering an adult class for ages 18 and over.\n\n\n\n\nHow long does a meeting last?\n\n1 hour\n\n\n\n\nIs childcare provided?\n\nYes\, we will have basic\, drop-in care.\n\n\n\n\nHow long does the program take?\n\nThe program is never ending\, each calendar year we will cover 26 lessons.\n\n\n\n\nWhat if I’m not ready to share my story?\n\nThat’s perfectly fine! You are not required to share anything you are uncomfortable with during the meeting or small group time. You are required to protect every attendee and their information by never sharing who\, what\, or anything else about the meeting.\n\n\n\n\nAre the meetings confidential/anonymous?\n\nYes\, this is a protected environment.\n\n\n\n\nCan I smoke?\n\nThere will be a designated smoking area outside\, away from the building.\n\n\n\n\nCan I watch online?\n\nNot currently\, but we do hope to offer that in the near future.\n\n\n\n\nDo I have to be a Christian to attend?\n\nNo\, but I’ll bet you will be before you leave.\n\n\n\n\nAre firearms permitted?\n\nFirearms are not permitted inside the building except for those individuals that have been assigned to protect the service by CR leaders.\n\n\n\n\nWhat if <unwanted person from my past> shows up? Are there any security measures in place?\n\nIt is the number one priority of the entire CR Staff to protect our meeting environment and all those attending.
URL:https://covenantparkchurch.org/event/celebrate-recovery/2024-11-19/
LOCATION:Covenant Park Church\, 1111 Mary Magnan Blvd\, Madison\, GA\, 30650\, United States
CATEGORIES:Men,Women
ATTACH;FMTTYPE=image/png:https://covenantparkchurch.org/wp-content/uploads/Celebrate-Recovery-1920-X1080-px-1.png
ORGANIZER;CN="Karen Young":MAILTO:celebraterecovery@covenantparkchurch.org
GEO:33.564322465858;-83.469787356103
X-APPLE-STRUCTURED-LOCATION;VALUE=URI;X-ADDRESS=Covenant Park Church 1111 Mary Magnan Blvd Madison GA 30650 United States;X-APPLE-RADIUS=500;X-TITLE=1111 Mary Magnan Blvd:geo:-83.469787356103,33.564322465858
END:VEVENT
BEGIN:VEVENT
DTSTART;TZID=America/New_York:20241112T180000
DTEND;TZID=America/New_York:20241112T190000
DTSTAMP:20260420T101945
CREATED:20240930T123127Z
LAST-MODIFIED:20250917T155615Z
UID:10005774-1731434400-1731438000@covenantparkchurch.org
SUMMARY:Celebrate Recovery
DESCRIPTION:Find Hope and Healing at Celebrate Recovery\nWhat is Celebrate Recovery?\nCelebrate Recovery is a Christ-centered\, twelve-step program that offers hope and healing to people struggling with hurts\, habits\, and hang-ups. Whether you’re dealing with addiction\, codependency\, relationship issues\, or any other life challenge\, Celebrate Recovery provides a safe and supportive environment where you can find freedom from your past. Through sharing your experiences\, receiving encouragement\, and applying biblical principles\, you can learn to overcome your struggles and live a life of victory. \nHow does Celebrate Recovery Work?\nCelebrate Recovery is based on the Eight Principles of the Beatitudes\, which provide a framework for understanding and addressing our struggles. Through weekly meetings\, we share our experiences\, strengths\, and hopes with others who are also on the journey of recovery. We also learn about God’s love and grace\, and how to apply His principles to our lives. \nA typical meeting looks like this: \n\nDoors will open at 5:30 each Tuesday with snacks and refreshments served in the lobby\nThe CR meeting will start promptly at 6:00\n\nThe first 30 minutes will include worship and a lesson or testimony\nSmall groups will meet immediately afterwards\n\n\n\nHow to Get Involved:\n\nAttend a Meeting: Our meetings are open to anyone\, regardless of their background or the nature of their struggles. We believe that everyone deserves a chance to experience the freedom and healing that God offers.\nContact Us: If you have any questions or need more information\, please contact Karen Young at celebraterecovery@covenantparkchurch.org or 706-438-1288.\nFollow the Covenant Park Celebrate Recovery Facebook page for the latest updates\, announcements\, and encouragement.\n\nCelebrate Recovery is a life-changing program that can help you find hope\, healing\, and a new way of living. We invite you to join us on this journey of recovery and discover the freedom that comes from following Christ. Are you ready to take the next step? \nI’m ReadyFAQ:\n\nIs there a cost for the program? Do I have to purchase any books/materials?\n\nThere is no cost to attend and while not required\, resources are available to purchase at the meeting.\n\n\n\n\nIs there a minimum age requirement?\n\nCurrently\, we are only offering an adult class for ages 18 and over.\n\n\n\n\nHow long does a meeting last?\n\n1 hour\n\n\n\n\nIs childcare provided?\n\nYes\, we will have basic\, drop-in care.\n\n\n\n\nHow long does the program take?\n\nThe program is never ending\, each calendar year we will cover 26 lessons.\n\n\n\n\nWhat if I’m not ready to share my story?\n\nThat’s perfectly fine! You are not required to share anything you are uncomfortable with during the meeting or small group time. You are required to protect every attendee and their information by never sharing who\, what\, or anything else about the meeting.\n\n\n\n\nAre the meetings confidential/anonymous?\n\nYes\, this is a protected environment.\n\n\n\n\nCan I smoke?\n\nThere will be a designated smoking area outside\, away from the building.\n\n\n\n\nCan I watch online?\n\nNot currently\, but we do hope to offer that in the near future.\n\n\n\n\nDo I have to be a Christian to attend?\n\nNo\, but I’ll bet you will be before you leave.\n\n\n\n\nAre firearms permitted?\n\nFirearms are not permitted inside the building except for those individuals that have been assigned to protect the service by CR leaders.\n\n\n\n\nWhat if <unwanted person from my past> shows up? Are there any security measures in place?\n\nIt is the number one priority of the entire CR Staff to protect our meeting environment and all those attending.
URL:https://covenantparkchurch.org/event/celebrate-recovery/2024-11-12/
LOCATION:Covenant Park Church\, 1111 Mary Magnan Blvd\, Madison\, GA\, 30650\, United States
CATEGORIES:Men,Women
ATTACH;FMTTYPE=image/png:https://covenantparkchurch.org/wp-content/uploads/Celebrate-Recovery-1920-X1080-px-1.png
ORGANIZER;CN="Karen Young":MAILTO:celebraterecovery@covenantparkchurch.org
GEO:33.564322465858;-83.469787356103
X-APPLE-STRUCTURED-LOCATION;VALUE=URI;X-ADDRESS=Covenant Park Church 1111 Mary Magnan Blvd Madison GA 30650 United States;X-APPLE-RADIUS=500;X-TITLE=1111 Mary Magnan Blvd:geo:-83.469787356103,33.564322465858
END:VEVENT
END:VCALENDAR