BEGIN:VCALENDAR
VERSION:2.0
PRODID:-//Covenant Park Church - ECPv6.15.20//NONSGML v1.0//EN
CALSCALE:GREGORIAN
METHOD:PUBLISH
X-ORIGINAL-URL:https://covenantparkchurch.org
X-WR-CALDESC:Events for Covenant Park Church
REFRESH-INTERVAL;VALUE=DURATION:PT1H
X-Robots-Tag:noindex
X-PUBLISHED-TTL:PT1H
BEGIN:VTIMEZONE
TZID:America/New_York
BEGIN:DAYLIGHT
TZOFFSETFROM:-0500
TZOFFSETTO:-0400
TZNAME:EDT
DTSTART:20240310T070000
END:DAYLIGHT
BEGIN:STANDARD
TZOFFSETFROM:-0400
TZOFFSETTO:-0500
TZNAME:EST
DTSTART:20241103T060000
END:STANDARD
BEGIN:DAYLIGHT
TZOFFSETFROM:-0500
TZOFFSETTO:-0400
TZNAME:EDT
DTSTART:20250309T070000
END:DAYLIGHT
BEGIN:STANDARD
TZOFFSETFROM:-0400
TZOFFSETTO:-0500
TZNAME:EST
DTSTART:20251102T060000
END:STANDARD
BEGIN:DAYLIGHT
TZOFFSETFROM:-0500
TZOFFSETTO:-0400
TZNAME:EDT
DTSTART:20260308T070000
END:DAYLIGHT
BEGIN:STANDARD
TZOFFSETFROM:-0400
TZOFFSETTO:-0500
TZNAME:EST
DTSTART:20261101T060000
END:STANDARD
END:VTIMEZONE
BEGIN:VEVENT
DTSTART;TZID=America/New_York:20250914T150000
DTEND;TZID=America/New_York:20250914T170000
DTSTAMP:20260420T070419
CREATED:20250812T152902Z
LAST-MODIFIED:20250819T150238Z
UID:10008541-1757862000-1757869200@covenantparkchurch.org
SUMMARY:The Nest - Play Date at Imagine That
DESCRIPTION:The Nest: A Young Moms’ Ministry\nHey moms of littles! We know the journey of motherhood\, especially with little ones\, can be incredibly rewarding\, but also a bit overwhelming at times. That’s why we’re so excited to announce the launch of our brand new Young Moms’ Ministry – The Nest geared towards moms of infants through children age 4. This is a space created just for you to connect with other amazing moms\, share experiences\, offer support\, and grow together in faith and friendship. \nJoin us for our next gathering\, a group playdate at Imagine That Indoor Play Village! It’s a wonderful opportunity to let the kids burn off some energy while you get to connect with other moms in a fun\, relaxed setting. We’ll provide some snacks and drinks\, so all you have to do is show up ready to play and fellowship! \nHere are the details: \n\n🗓️ Date: September 14\n⏰ Time: 3:00 PM – 5:00 PM\n📍 Location: Imagine That Indoor Play Village\n💸 Cost: $12 admission for children ages 4 months to 10 years old. Each paid child admission includes one free adult. Additional adults are $5.\n✍️ Registration: Please sign up online so we know you’re coming!\n\nPlease remember that grippy socks are required for all children playing. You are welcome to bring your own or purchase them at Imagine That for $3. Come and be refreshed\, connect with fellow moms\, and find encouragement in your journey! For any questions\, please reach out to Debbie Goldston at (256) 259-8212. We can’t wait to see you there! \nRSVP HERE
URL:https://covenantparkchurch.org/event/the-nest-play-date-at-imagine-that/
LOCATION:Imagine That\, 1410 Atlanta Hwy\, Madison\, 30650\, United States
CATEGORIES:Front Page,Women
ATTACH;FMTTYPE=image/png:https://covenantparkchurch.org/wp-content/uploads/The-Nest-Imagine-That-Website-Thumbnail-1.png
ORGANIZER;CN="Debbie Goldston":MAILTO:sheridans57@hotmail.com
GEO:33.5805144;-83.4886955
X-APPLE-STRUCTURED-LOCATION;VALUE=URI;X-ADDRESS=Imagine That 1410 Atlanta Hwy Madison 30650 United States;X-APPLE-RADIUS=500;X-TITLE=1410 Atlanta Hwy:geo:-83.4886955,33.5805144
END:VEVENT
BEGIN:VEVENT
DTSTART;TZID=America/New_York:20250810T150000
DTEND;TZID=America/New_York:20250810T170000
DTSTAMP:20260420T070419
CREATED:20250715T142236Z
LAST-MODIFIED:20250804T153214Z
UID:10008106-1754838000-1754845200@covenantparkchurch.org
SUMMARY:Young Mom's Ministry - Coffee & Cupcakes
DESCRIPTION:The Nest: A Young Moms’ Ministry at Covenant Park\nHey moms of littles! We know the journey of motherhood\, especially with little ones\, can be incredibly rewarding\, but also a bit overwhelming at times. That’s why we’re so excited to announce the launch of our brand new Young Moms’ Ministry – The Nest geared towards moms of infants through children age 4. This is a space created just for you to connect with other amazing moms\, share experiences\, offer support\, and grow together in faith and friendship. \nJoin us for our very first gathering\, a relaxed “Coffee and Cupcakes” get-together. We’ll have some yummy treats and plenty of opportunities to chat\, laugh\, and encourage one another. Motherhood is a unique adventure\, and it’s always better when you have a supportive community by your side. We can’t wait to see you there and start building this special sisterhood! \nHere are the details: \n\n🗓️ Date: August 10\n⏰ Time: 3:00 PM – 5:00 PM\n📍 Location: Covenant Park Church Foyer\n✍️ Registration Deadline: August 6\n\nCome and be refreshed\, connect with fellow moms\, and find encouragement in your journey! Childcare will be provided for your little ones\, but please register by August 6 so we can make sure we have enough workers. For any questions\, please reach out to Debbie Goldston at (256) 259-8212. We can’t wait to see you there! \nRSVP HERE
URL:https://covenantparkchurch.org/event/young-moms-ministry-coffee-cupcakes/
LOCATION:Covenant Park Church\, 1111 Mary Magnan Blvd\, Madison\, GA\, 30650\, United States
CATEGORIES:Front Page,Women
ATTACH;FMTTYPE=image/png:https://covenantparkchurch.org/wp-content/uploads/YMM-Coffee-Cupcakes-Website-Thumbnail.png
ORGANIZER;CN="Debbie Goldston":MAILTO:sheridans57@hotmail.com
GEO:33.564322465858;-83.469787356103
X-APPLE-STRUCTURED-LOCATION;VALUE=URI;X-ADDRESS=Covenant Park Church 1111 Mary Magnan Blvd Madison GA 30650 United States;X-APPLE-RADIUS=500;X-TITLE=1111 Mary Magnan Blvd:geo:-83.469787356103,33.564322465858
END:VEVENT
END:VCALENDAR