BEGIN:VCALENDAR
VERSION:2.0
PRODID:-//Covenant Park Church - ECPv6.15.20//NONSGML v1.0//EN
CALSCALE:GREGORIAN
METHOD:PUBLISH
X-WR-CALNAME:Covenant Park Church
X-ORIGINAL-URL:https://covenantparkchurch.org
X-WR-CALDESC:Events for Covenant Park Church
REFRESH-INTERVAL;VALUE=DURATION:PT1H
X-Robots-Tag:noindex
X-PUBLISHED-TTL:PT1H
BEGIN:VTIMEZONE
TZID:America/New_York
BEGIN:DAYLIGHT
TZOFFSETFROM:-0500
TZOFFSETTO:-0400
TZNAME:EDT
DTSTART:20240310T070000
END:DAYLIGHT
BEGIN:STANDARD
TZOFFSETFROM:-0400
TZOFFSETTO:-0500
TZNAME:EST
DTSTART:20241103T060000
END:STANDARD
BEGIN:DAYLIGHT
TZOFFSETFROM:-0500
TZOFFSETTO:-0400
TZNAME:EDT
DTSTART:20250309T070000
END:DAYLIGHT
BEGIN:STANDARD
TZOFFSETFROM:-0400
TZOFFSETTO:-0500
TZNAME:EST
DTSTART:20251102T060000
END:STANDARD
BEGIN:DAYLIGHT
TZOFFSETFROM:-0500
TZOFFSETTO:-0400
TZNAME:EDT
DTSTART:20260308T070000
END:DAYLIGHT
BEGIN:STANDARD
TZOFFSETFROM:-0400
TZOFFSETTO:-0500
TZNAME:EST
DTSTART:20261101T060000
END:STANDARD
END:VTIMEZONE
BEGIN:VEVENT
DTSTART;TZID=America/New_York:20250810T110000
DTEND;TZID=America/New_York:20250810T121500
DTSTAMP:20260419T181944
CREATED:20250802T122903Z
LAST-MODIFIED:20250922T181712Z
UID:10008281-1754823600-1754828100@covenantparkchurch.org
SUMMARY:AFTERWORDS - Adult Bible Study
DESCRIPTION:AFTERWORDS: A Conversation After the Message\nWant to dive a little deeper into Sunday’s message? We’re so excited to invite you to “AFTERWORDS\,” a brand-new Bible study designed for adults of all ages! This is a gathering where we can really dig into the morning’s sermon and chat about how to apply it to our everyday lives. Think of it as a friendly\, faith-filled debrief where questions are welcome and insights are shared! \nWe believe that spiritual growth happens best in community\, and that’s exactly what AFTERWORDS is all about. There’s no prep needed – just come as you are\, ready for some great conversation\, connection\, and encouragement. While you’re enjoying the discussion\, your children are more than welcome to attend our Treehouse or Sprouts Ministries\, so everyone in the family can grow in their faith. \nWe can’t wait to connect with you and explore God’s Word together! \nHere are the details: \n\n🗓️ When: Every Sunday\n⏰ Time: 11:00 AM\n📍 Location: Student Ministry Room\n📞 Contact: For any questions\, please reach out to Brett Holmes at brett@covenantparkchurch.org or 706-438-1288.
URL:https://covenantparkchurch.org/event/afterwords-adult-bible-study-2/
LOCATION:Covenant Park Church\, 1111 Mary Magnan Blvd\, Madison\, GA\, 30650\, United States
ATTACH;FMTTYPE=image/png:https://covenantparkchurch.org/wp-content/uploads/AFTERWORDS-Bible-Study-1.png
ORGANIZER;CN="Brett Holmes":MAILTO:brett@covenantparkchurch.org
GEO:33.564322465858;-83.469787356103
X-APPLE-STRUCTURED-LOCATION;VALUE=URI;X-ADDRESS=Covenant Park Church 1111 Mary Magnan Blvd Madison GA 30650 United States;X-APPLE-RADIUS=500;X-TITLE=1111 Mary Magnan Blvd:geo:-83.469787356103,33.564322465858
END:VEVENT
END:VCALENDAR