BEGIN:VCALENDAR
VERSION:2.0
PRODID:-//Covenant Park Church - ECPv6.15.20//NONSGML v1.0//EN
CALSCALE:GREGORIAN
METHOD:PUBLISH
X-ORIGINAL-URL:https://covenantparkchurch.org
X-WR-CALDESC:Events for Covenant Park Church
REFRESH-INTERVAL;VALUE=DURATION:PT1H
X-Robots-Tag:noindex
X-PUBLISHED-TTL:PT1H
BEGIN:VTIMEZONE
TZID:America/New_York
BEGIN:DAYLIGHT
TZOFFSETFROM:-0500
TZOFFSETTO:-0400
TZNAME:EDT
DTSTART:20220313T070000
END:DAYLIGHT
BEGIN:STANDARD
TZOFFSETFROM:-0400
TZOFFSETTO:-0500
TZNAME:EST
DTSTART:20221106T060000
END:STANDARD
BEGIN:DAYLIGHT
TZOFFSETFROM:-0500
TZOFFSETTO:-0400
TZNAME:EDT
DTSTART:20230312T070000
END:DAYLIGHT
BEGIN:STANDARD
TZOFFSETFROM:-0400
TZOFFSETTO:-0500
TZNAME:EST
DTSTART:20231105T060000
END:STANDARD
BEGIN:DAYLIGHT
TZOFFSETFROM:-0500
TZOFFSETTO:-0400
TZNAME:EDT
DTSTART:20240310T070000
END:DAYLIGHT
BEGIN:STANDARD
TZOFFSETFROM:-0400
TZOFFSETTO:-0500
TZNAME:EST
DTSTART:20241103T060000
END:STANDARD
END:VTIMEZONE
BEGIN:VEVENT
DTSTART;TZID=America/New_York:20230227T100000
DTEND;TZID=America/New_York:20230227T120000
DTSTAMP:20260421T060032
CREATED:20230109T175206Z
LAST-MODIFIED:20230117T213934Z
UID:10000506-1677492000-1677499200@covenantparkchurch.org
SUMMARY:Women's Life Group  - "Esther" Bible Study
DESCRIPTION:Beginning Monday\, January 16 at 10am the Women’s Life Group will be starting a 10 week series\, “Esther” by Beth Moore.  The study book will be $18.  Please contact Anne Harper at  262-665-1102 by 1/12 if you would like to participate.
URL:https://covenantparkchurch.org/event/womens-life-group-esther-bible-study/2023-02-27/
LOCATION:Covenant Park Church\, 1111 Mary Magnan Blvd\, Madison\, GA\, 30650\, United States
CATEGORIES:Muted,Women
ATTACH;FMTTYPE=image/png:https://covenantparkchurch.org/wp-content/uploads/Ester-Bible-Study-1920x1080-1.png
GEO:33.564322465858;-83.469787356103
X-APPLE-STRUCTURED-LOCATION;VALUE=URI;X-ADDRESS=Covenant Park Church 1111 Mary Magnan Blvd Madison GA 30650 United States;X-APPLE-RADIUS=500;X-TITLE=1111 Mary Magnan Blvd:geo:-83.469787356103,33.564322465858
END:VEVENT
BEGIN:VEVENT
DTSTART;TZID=America/New_York:20230220T100000
DTEND;TZID=America/New_York:20230220T120000
DTSTAMP:20260421T060032
CREATED:20230109T175206Z
LAST-MODIFIED:20230117T213934Z
UID:10000505-1676887200-1676894400@covenantparkchurch.org
SUMMARY:Women's Life Group  - "Esther" Bible Study
DESCRIPTION:Beginning Monday\, January 16 at 10am the Women’s Life Group will be starting a 10 week series\, “Esther” by Beth Moore.  The study book will be $18.  Please contact Anne Harper at  262-665-1102 by 1/12 if you would like to participate.
URL:https://covenantparkchurch.org/event/womens-life-group-esther-bible-study/2023-02-20/
LOCATION:Covenant Park Church\, 1111 Mary Magnan Blvd\, Madison\, GA\, 30650\, United States
CATEGORIES:Muted,Women
ATTACH;FMTTYPE=image/png:https://covenantparkchurch.org/wp-content/uploads/Ester-Bible-Study-1920x1080-1.png
GEO:33.564322465858;-83.469787356103
X-APPLE-STRUCTURED-LOCATION;VALUE=URI;X-ADDRESS=Covenant Park Church 1111 Mary Magnan Blvd Madison GA 30650 United States;X-APPLE-RADIUS=500;X-TITLE=1111 Mary Magnan Blvd:geo:-83.469787356103,33.564322465858
END:VEVENT
BEGIN:VEVENT
DTSTART;TZID=America/New_York:20230213T100000
DTEND;TZID=America/New_York:20230213T120000
DTSTAMP:20260421T060032
CREATED:20230109T175206Z
LAST-MODIFIED:20230117T213934Z
UID:10000504-1676282400-1676289600@covenantparkchurch.org
SUMMARY:Women's Life Group  - "Esther" Bible Study
DESCRIPTION:Beginning Monday\, January 16 at 10am the Women’s Life Group will be starting a 10 week series\, “Esther” by Beth Moore.  The study book will be $18.  Please contact Anne Harper at  262-665-1102 by 1/12 if you would like to participate.
URL:https://covenantparkchurch.org/event/womens-life-group-esther-bible-study/2023-02-13/
LOCATION:Covenant Park Church\, 1111 Mary Magnan Blvd\, Madison\, GA\, 30650\, United States
CATEGORIES:Muted,Women
ATTACH;FMTTYPE=image/png:https://covenantparkchurch.org/wp-content/uploads/Ester-Bible-Study-1920x1080-1.png
GEO:33.564322465858;-83.469787356103
X-APPLE-STRUCTURED-LOCATION;VALUE=URI;X-ADDRESS=Covenant Park Church 1111 Mary Magnan Blvd Madison GA 30650 United States;X-APPLE-RADIUS=500;X-TITLE=1111 Mary Magnan Blvd:geo:-83.469787356103,33.564322465858
END:VEVENT
BEGIN:VEVENT
DTSTART;TZID=America/New_York:20230206T100000
DTEND;TZID=America/New_York:20230206T120000
DTSTAMP:20260421T060032
CREATED:20230109T175206Z
LAST-MODIFIED:20230117T213934Z
UID:10000503-1675677600-1675684800@covenantparkchurch.org
SUMMARY:Women's Life Group  - "Esther" Bible Study
DESCRIPTION:Beginning Monday\, January 16 at 10am the Women’s Life Group will be starting a 10 week series\, “Esther” by Beth Moore.  The study book will be $18.  Please contact Anne Harper at  262-665-1102 by 1/12 if you would like to participate.
URL:https://covenantparkchurch.org/event/womens-life-group-esther-bible-study/2023-02-06/
LOCATION:Covenant Park Church\, 1111 Mary Magnan Blvd\, Madison\, GA\, 30650\, United States
CATEGORIES:Muted,Women
ATTACH;FMTTYPE=image/png:https://covenantparkchurch.org/wp-content/uploads/Ester-Bible-Study-1920x1080-1.png
GEO:33.564322465858;-83.469787356103
X-APPLE-STRUCTURED-LOCATION;VALUE=URI;X-ADDRESS=Covenant Park Church 1111 Mary Magnan Blvd Madison GA 30650 United States;X-APPLE-RADIUS=500;X-TITLE=1111 Mary Magnan Blvd:geo:-83.469787356103,33.564322465858
END:VEVENT
BEGIN:VEVENT
DTSTART;TZID=America/New_York:20230130T100000
DTEND;TZID=America/New_York:20230130T120000
DTSTAMP:20260421T060032
CREATED:20230109T175206Z
LAST-MODIFIED:20230117T213934Z
UID:10000502-1675072800-1675080000@covenantparkchurch.org
SUMMARY:Women's Life Group  - "Esther" Bible Study
DESCRIPTION:Beginning Monday\, January 16 at 10am the Women’s Life Group will be starting a 10 week series\, “Esther” by Beth Moore.  The study book will be $18.  Please contact Anne Harper at  262-665-1102 by 1/12 if you would like to participate.
URL:https://covenantparkchurch.org/event/womens-life-group-esther-bible-study/2023-01-30/
LOCATION:Covenant Park Church\, 1111 Mary Magnan Blvd\, Madison\, GA\, 30650\, United States
CATEGORIES:Muted,Women
ATTACH;FMTTYPE=image/png:https://covenantparkchurch.org/wp-content/uploads/Ester-Bible-Study-1920x1080-1.png
GEO:33.564322465858;-83.469787356103
X-APPLE-STRUCTURED-LOCATION;VALUE=URI;X-ADDRESS=Covenant Park Church 1111 Mary Magnan Blvd Madison GA 30650 United States;X-APPLE-RADIUS=500;X-TITLE=1111 Mary Magnan Blvd:geo:-83.469787356103,33.564322465858
END:VEVENT
BEGIN:VEVENT
DTSTART;TZID=America/New_York:20230123T100000
DTEND;TZID=America/New_York:20230123T120000
DTSTAMP:20260421T060032
CREATED:20230109T175206Z
LAST-MODIFIED:20230117T213934Z
UID:10000501-1674468000-1674475200@covenantparkchurch.org
SUMMARY:Women's Life Group  - "Esther" Bible Study
DESCRIPTION:Beginning Monday\, January 16 at 10am the Women’s Life Group will be starting a 10 week series\, “Esther” by Beth Moore.  The study book will be $18.  Please contact Anne Harper at  262-665-1102 by 1/12 if you would like to participate.
URL:https://covenantparkchurch.org/event/womens-life-group-esther-bible-study/2023-01-23/
LOCATION:Covenant Park Church\, 1111 Mary Magnan Blvd\, Madison\, GA\, 30650\, United States
CATEGORIES:Muted,Women
ATTACH;FMTTYPE=image/png:https://covenantparkchurch.org/wp-content/uploads/Ester-Bible-Study-1920x1080-1.png
GEO:33.564322465858;-83.469787356103
X-APPLE-STRUCTURED-LOCATION;VALUE=URI;X-ADDRESS=Covenant Park Church 1111 Mary Magnan Blvd Madison GA 30650 United States;X-APPLE-RADIUS=500;X-TITLE=1111 Mary Magnan Blvd:geo:-83.469787356103,33.564322465858
END:VEVENT
BEGIN:VEVENT
DTSTART;TZID=America/New_York:20230116T100000
DTEND;TZID=America/New_York:20230116T120000
DTSTAMP:20260421T060032
CREATED:20230109T175206Z
LAST-MODIFIED:20230117T213934Z
UID:10000500-1673863200-1673870400@covenantparkchurch.org
SUMMARY:Women's Life Group  - "Esther" Bible Study
DESCRIPTION:Beginning Monday\, January 16 at 10am the Women’s Life Group will be starting a 10 week series\, “Esther” by Beth Moore.  The study book will be $18.  Please contact Anne Harper at  262-665-1102 by 1/12 if you would like to participate.
URL:https://covenantparkchurch.org/event/womens-life-group-esther-bible-study/2023-01-16/
LOCATION:Covenant Park Church\, 1111 Mary Magnan Blvd\, Madison\, GA\, 30650\, United States
CATEGORIES:Muted,Women
ATTACH;FMTTYPE=image/png:https://covenantparkchurch.org/wp-content/uploads/Ester-Bible-Study-1920x1080-1.png
GEO:33.564322465858;-83.469787356103
X-APPLE-STRUCTURED-LOCATION;VALUE=URI;X-ADDRESS=Covenant Park Church 1111 Mary Magnan Blvd Madison GA 30650 United States;X-APPLE-RADIUS=500;X-TITLE=1111 Mary Magnan Blvd:geo:-83.469787356103,33.564322465858
END:VEVENT
END:VCALENDAR